BEGIN:VCALENDAR
VERSION:2.0
PRODID:-//NW Corporate Law - ECPv6.15.20//NONSGML v1.0//EN
CALSCALE:GREGORIAN
METHOD:PUBLISH
X-ORIGINAL-URL:https://www.nwcorporatelaw.com
X-WR-CALDESC:Events for NW Corporate Law
REFRESH-INTERVAL;VALUE=DURATION:PT1H
X-Robots-Tag:noindex
X-PUBLISHED-TTL:PT1H
BEGIN:VTIMEZONE
TZID:UTC
BEGIN:STANDARD
TZOFFSETFROM:+0000
TZOFFSETTO:+0000
TZNAME:UTC
DTSTART:20230101T000000
END:STANDARD
END:VTIMEZONE
BEGIN:VEVENT
DTSTART;TZID=UTC:20240319T083000
DTEND;TZID=UTC:20240319T100000
DTSTAMP:20260425T155313
CREATED:20240312T175649Z
LAST-MODIFIED:20240312T183948Z
UID:22490-1710837000-1710842400@www.nwcorporatelaw.com
SUMMARY:2024 Angel Oregon Technology
DESCRIPTION:EVENT DESCRIPTION: Angel Oregon Technology (AOTech) is designed to support early-stage technology startups based in Oregon and Southwest Washington by offering investment-readiness education\, mentorship with successful local entrepreneurs in their sector\, and connectivity within the local technology community. The program is one in a series of Angel Oregon events facilitated by OEN which includes Angel Oregon Life and Bioscience (AOBIO) and Oregon Angel Food (OregonAF). The first session titled “Tackling Term Sheets” provides a robust understanding of the critical investment document. For founders seeking funding\, the term sheet can make or break a deal. It sets out the key terms that will form the building blocks of the relationship and alignment between the company and the investor. More than just a financial contract\, term sheets are about preserving your startup’s vision\, protecting its interests\, and ensuring a fair partnership with investors. This AOTech panel conversation will tackle term sheets\, unraveling their significance\, key components\, and the critical art of negotiation.  \nSession Focus Points \n\nCap Tables\nValuation\nOption Pools\nLiquidation Preferences\nBoard of Directors\nInvestor Rights\nOwnership Percentage of Share Classes\nParticipation Rights\nDividends\n\nEDUCATION | LOCAL IMPACT | NETWORKING | VIRTUAL \nWHO SHOULD ATTEND: Early Stage Tech Entrepreneurs\, Investors\, VCs\, Series A Ready Tech Companies\, Local Support Organizations\, Early Stage Entrepreneurs Interested In Raising Funding \nLOCATION: Virtual / Online \nEDUCATION SESSIONS \n\nAOTech will host TWO cohorts in 2024 featuring a three-week investment-readiness education series for technology startups at any stage of development.\n\nCohort 1: Education SeriesTuesdays\, March 19th – April 9th – 8:30 – 10:00 am on Zoom\nCohort 2: Education SeriesTuesdays\, August 20th – September 3rd – 8:30 – 10:00 am on Zoom\n\n\n\nPITCH PRACTICE \n\nIn-Person Practice Pitch sessions.\n\nCohort 1: Pitch PracticeTuesday\, April 16th – 11:00 am – 1:00 pm location TBD\n\n\nCohort 2: Pitch PracticeTuesday\, September 17th – 11:00 am – 1:00 pm location TBD.
URL:https://www.nwcorporatelaw.com/event/2024-angel-oregon-technology/
LOCATION:Virtual Event
CATEGORIES:Education,Local Impact,Networking,Virtual / Online
ATTACH;FMTTYPE=image/jpeg:https://www.nwcorporatelaw.com/wp-content/uploads/2022/04/network-edu.jpg
ORGANIZER;CN="OEN (Oregon Entrepreneurs Network)":MAILTO:info@oen.org
END:VEVENT
END:VCALENDAR