BEGIN:VCALENDAR
VERSION:2.0
PRODID:-//NW Corporate Law - ECPv6.15.20//NONSGML v1.0//EN
CALSCALE:GREGORIAN
METHOD:PUBLISH
X-WR-CALNAME:NW Corporate Law
X-ORIGINAL-URL:https://www.nwcorporatelaw.com
X-WR-CALDESC:Events for NW Corporate Law
REFRESH-INTERVAL;VALUE=DURATION:PT1H
X-Robots-Tag:noindex
X-PUBLISHED-TTL:PT1H
BEGIN:VTIMEZONE
TZID:UTC
BEGIN:STANDARD
TZOFFSETFROM:+0000
TZOFFSETTO:+0000
TZNAME:UTC
DTSTART:20230101T000000
END:STANDARD
END:VTIMEZONE
BEGIN:VEVENT
DTSTART;TZID=UTC:20240611T160000
DTEND;TZID=UTC:20240611T190000
DTSTAMP:20260425T203044
CREATED:20240524T212752Z
LAST-MODIFIED:20240527T172330Z
UID:22577-1718121600-1718132400@www.nwcorporatelaw.com
SUMMARY:Seattle AI Week: AI Startup Demos\, Drinks\, and Networking
DESCRIPTION:EVENT DESCRIPTION: Business leaders: as part of #SeattleAIWeek\, come meet 10 Seattle AI startups\, network with other business leaders and the AI community\, and see the AWS Skill Center from 4:00 PM – 7:00 PM! ​This event will have 10+ AI startups from the Seattle area who are creating products to help companies use AI. Confirmed startups include: Stellis.ai (AI Adoption)\, Advocat.ai (Legal Services)\, AIGen.io (Agricultural Tech)\, BoundaryML.com (AI Platform)\, FlairLabs.ai (Sales)\, Ghostwriter-ai.com (AI Writing)\, Griptape.ai (AI Platform)\, Hal9.com (Analytics)\, Included.ai (HR & Analytics)\, Push.ai (Data Observability)\, and Outbound.ai (Health Care! ​This is your chance to see the latest in technology and how AI is being applied today\, and ask questions directly of the AI startups. ​Drinks and appetizers included! Registration is free of charge\, but priority will be given to business\, government\, technology\, and AI industry participants. \nNETWORKING | IN-PERSON \nBook Now! \nWho Should Attend: Seattle based Techpreneurs\, Entrepreneurs\, Aspiring Entrepreneurs\, Investors\, AI Enthusiasts\, Startups\, Local Support Organizations \nLocation: AWS Skills Center Seattle
URL:https://www.nwcorporatelaw.com/event/seattle-ai-week-ai-startup-demos-drinks-and-networking/
LOCATION:In-Person Event (Details Below)
CATEGORIES:In-Person,Networking
ATTACH;FMTTYPE=image/jpeg:https://www.nwcorporatelaw.com/wp-content/uploads/2022/04/network2.jpg
ORGANIZER;CN="WTIA (Washington Technology Industry Association)":MAILTO:info@washingtontechnology.org
END:VEVENT
END:VCALENDAR