BEGIN:VCALENDAR
VERSION:2.0
PRODID:-//NW Corporate Law - ECPv6.15.20//NONSGML v1.0//EN
CALSCALE:GREGORIAN
METHOD:PUBLISH
X-WR-CALNAME:NW Corporate Law
X-ORIGINAL-URL:https://www.nwcorporatelaw.com
X-WR-CALDESC:Events for NW Corporate Law
REFRESH-INTERVAL;VALUE=DURATION:PT1H
X-Robots-Tag:noindex
X-PUBLISHED-TTL:PT1H
BEGIN:VTIMEZONE
TZID:UTC
BEGIN:STANDARD
TZOFFSETFROM:+0000
TZOFFSETTO:+0000
TZNAME:UTC
DTSTART:20250101T000000
END:STANDARD
END:VTIMEZONE
BEGIN:VEVENT
DTSTART;TZID=UTC:20260317T110000
DTEND;TZID=UTC:20260317T130000
DTSTAMP:20260424T190158
CREATED:20260306T225741Z
LAST-MODIFIED:20260306T225741Z
UID:23196-1773745200-1773752400@www.nwcorporatelaw.com
SUMMARY:Pitch\, Please: March
DESCRIPTION:Event Description: Receive feedback on your pitch before stepping foot in front of investors\, buyers\, or customers. Pitch\, Please is a monthly event hosted by OEN offering founders and entrepreneurs the opportunity to showcase their 5-minute pitch virtually or in person at select events throughout the state. Following the pitch\, regional thought leaders will ask questions and provide feedback to help strengthen pitches for when it’s time for the real thing. This is an online event\, and you can join the event to Pitch or Observe! \nPITCHING | EDUCATION | FUNDING | ONLINE \nWho Should Attend: Early Stage Entrepreneurs\, Pitching Companies\, Investors\, VCs\, Local Support Organizations \nBook Now! \nLocation: ZOOM \nFOR MORE GREAT LOCAL EVENTS CHECK OUT OUR NWCL EVENTS PAGE!
URL:https://www.nwcorporatelaw.com/event/pitch-please-march/
LOCATION:Virtual Event
CATEGORIES:Education,Funding,Pitching,Virtual / Online
ATTACH;FMTTYPE=image/jpeg:https://www.nwcorporatelaw.com/wp-content/uploads/2022/04/pitching2.jpg
ORGANIZER;CN="OEN (Oregon Entrepreneurs Network)":MAILTO:info@oen.org
END:VEVENT
END:VCALENDAR