BEGIN:VCALENDAR
VERSION:2.0
PRODID:-//NW Corporate Law - ECPv6.15.20//NONSGML v1.0//EN
CALSCALE:GREGORIAN
METHOD:PUBLISH
X-ORIGINAL-URL:https://www.nwcorporatelaw.com
X-WR-CALDESC:Events for NW Corporate Law
REFRESH-INTERVAL;VALUE=DURATION:PT1H
X-Robots-Tag:noindex
X-PUBLISHED-TTL:PT1H
BEGIN:VTIMEZONE
TZID:UTC
BEGIN:STANDARD
TZOFFSETFROM:+0000
TZOFFSETTO:+0000
TZNAME:UTC
DTSTART:20250101T000000
END:STANDARD
END:VTIMEZONE
BEGIN:VEVENT
DTSTART;TZID=UTC:20260312T173000
DTEND;TZID=UTC:20260312T193000
DTSTAMP:20260424T011134
CREATED:20260306T232023Z
LAST-MODIFIED:20260306T232024Z
UID:23199-1773336600-1773343800@www.nwcorporatelaw.com
SUMMARY:March HubTalk: A Seat At The Table
DESCRIPTION:Event Description: This month’s HubTalk centers women who are leading businesses and institutions across the Gorge. These are founders\, executives\, and operators who carry responsibility for hiring\, investment\, growth\, and long-term direction. \nNETWORKING | LOCAL IMPACT | IN-PERSON \nRegister Now! \nWho Should Attend: This HubTalk is designed for founders\, business owners\, operators\, and community members interested in how women are shaping economic outcomes in our region and how broader access to leadership strengthens the overall ecosystem. \nLocation: The Ruins -13 Railroad Street\, Hood River\, OR 97031
URL:https://www.nwcorporatelaw.com/event/march-hubtalk-a-seat-at-the-table/
CATEGORIES:In-Person,Local Impact,Networking
ATTACH;FMTTYPE=image/jpeg:https://www.nwcorporatelaw.com/wp-content/uploads/2022/04/network2.jpg
END:VEVENT
END:VCALENDAR