BEGIN:VCALENDAR
VERSION:2.0
PRODID:-//NW Corporate Law - ECPv6.15.20//NONSGML v1.0//EN
CALSCALE:GREGORIAN
METHOD:PUBLISH
X-WR-CALNAME:NW Corporate Law
X-ORIGINAL-URL:https://www.nwcorporatelaw.com
X-WR-CALDESC:Events for NW Corporate Law
REFRESH-INTERVAL;VALUE=DURATION:PT1H
X-Robots-Tag:noindex
X-PUBLISHED-TTL:PT1H
BEGIN:VTIMEZONE
TZID:UTC
BEGIN:STANDARD
TZOFFSETFROM:+0000
TZOFFSETTO:+0000
TZNAME:UTC
DTSTART:20250101T000000
END:STANDARD
END:VTIMEZONE
BEGIN:VEVENT
DTSTART;TZID=UTC:20260505T170000
DTEND;TZID=UTC:20260505T220000
DTSTAMP:20260423T120517
CREATED:20260407T190105Z
LAST-MODIFIED:20260407T193019Z
UID:23217-1778000400-1778018400@www.nwcorporatelaw.com
SUMMARY:The Oregon Tech Awards 2026
DESCRIPTION:EVENT DESCRIPTION: For over four decades\, the Oregon Technology Awards have been the premier celebration of innovation\, leadership\, and impact in our region’s tech ecosystem. From rising startups to bold pivots by established companies\, these awards shine a spotlight on the people and organizations driving Oregon’s tech future forward. \nNETWORKING | LOCAL IMPACT | FUNDING | IN-PERSON \n\n\n\n\n\n\nAgenda \n\n\n\n\n\n\n\n\n\n\n\n\n5:00 PM – Guest Arrival & Check-In\n\nWelcome reception begins\nEnjoy appetizers\, drinks\, and live music\nExplore the Student Showcase\, highlighting future tech talent\n\n6:30 PM – Awards Ceremony & Dinner \n\nGuests take their seats as dinner is served\nRecognition of finalists\, winners\, and industry leaders\n\n\n\n\n\n\n\n\n\n\n\n8:15 PM – Ceremony Concludes \n8:30 PM – After Party Begins! \n\nMusic\, photo booths\, and continued celebrations\nDrinks and networking opportunities\n\n10:00 PM – Event Concludes \n\n\n\n\n\n\nRegister Now! \nWHO SHOULD ATTEND: Techpreneurs\, Entrepreneurs\, Health Tech Entrepreneurs\, Local Support Organizations\, Healthcare Professionals\, PDX Startups\, Wellness and Performance Professionals\, Sport and Outdoor Tech Startups\, Aspiring Entrepreneurs\, VCs\, Angel Investors \nLocation: Hilton – PDX (921 SW 6th Ave) \nFOR MORE GREAT LOCAL EVENTS CHECK OUT OUR NWCL EVENTS PAGE! \n 
URL:https://www.nwcorporatelaw.com/event/the-oregon-tech-awards-2026/
LOCATION:In-Person Event (Details Below)
CATEGORIES:Funding,In-Person,Local Impact,Networking
ATTACH;FMTTYPE=image/jpeg:https://www.nwcorporatelaw.com/wp-content/uploads/2022/04/network2.jpg
END:VEVENT
BEGIN:VEVENT
DTSTART;TZID=UTC:20260507T160000
DTEND;TZID=UTC:20260507T173000
DTSTAMP:20260423T120517
CREATED:20260407T194115Z
LAST-MODIFIED:20260407T194115Z
UID:23226-1778169600-1778175000@www.nwcorporatelaw.com
SUMMARY:May Entrepreneur Mixer (OEN)
DESCRIPTION:Event Description: Enjoy an afternoon just for entrepreneurs and founders at the Oregon Entrepreneurs Network (OEN) During this event\, you’ll have the opportunity to meet ambitious founders and entrepreneurs with a broad range of expertise and skills that are open to building new relationships and strengthening the regional innovation ecosystem. Enjoy light nibbles and your first drink on us\, networking\, and the chance to learn from regional thought leaders. \nNETWORKING | LOCAL IMPACT | IN-PERSON \nRegister Now! \nWho Should Attend: Local Entrepreneurs\, Techpreneurs\, Aspiring Entrepreneurs\, Local Support Organizations\, Investors \nLocation: BearKat Brewing in Sherwood \nFOR MORE GREAT LOCAL EVENTS CHECK OUT OUR NWCL EVENTS PAGE! \n 
URL:https://www.nwcorporatelaw.com/event/may-entrepreneur-mixer-oen/
CATEGORIES:In-Person,Local Impact,Networking
ATTACH;FMTTYPE=image/jpeg:https://www.nwcorporatelaw.com/wp-content/uploads/2022/04/network2.jpg
ORGANIZER;CN="OEN (Oregon Entrepreneurs Network)":MAILTO:info@oen.org
END:VEVENT
BEGIN:VEVENT
DTSTART;VALUE=DATE:20260708
DTEND;VALUE=DATE:20260711
DTSTAMP:20260423T120517
CREATED:20260407T195424Z
LAST-MODIFIED:20260407T195424Z
UID:23229-1783468800-1783727999@www.nwcorporatelaw.com
SUMMARY:Great Transformation (2026)
DESCRIPTION:Event Description: The Great Transformation serves as a critical forum for technology\, cleantech and renewable energy industry professionals to accelerate the transition from centralized to distributed energy and computing systems. The 2026 event focuses on navigating the surge in energy demand driven by AI\, data centers\, and the necessity for a more modern and resilient grid infrastructure. We are delighted to be official sponsors of this fantastic event\, and will be in attendance for the event. \nEDUCATION | NETWORKING | LOCAL IMPACT | IN-PERSON \nBook Now! \nWho Should Attend: Energy Companies\, Renewable Energy Companies\, Battery Companies\, Cleantech Companies\, Grid Companies\, Local Support Organizations\, Techpreneurs\, C Suite Level Executives\, Investors \nLocation: Riverhouse Lodge-Bend – 3075 N Hwy 97\, Bend\, OR 97703
URL:https://www.nwcorporatelaw.com/event/great-transformation-2026/
CATEGORIES:Education,In-Person,Local Impact,Networking
ATTACH;FMTTYPE=image/jpeg:https://www.nwcorporatelaw.com/wp-content/uploads/2022/04/network-edu.jpg
END:VEVENT
BEGIN:VEVENT
DTSTART;TZID=UTC:20261016T080000
DTEND;TZID=UTC:20261016T170000
DTSTAMP:20260423T120517
CREATED:20260407T204049Z
LAST-MODIFIED:20260407T204049Z
UID:23231-1792137600-1792170000@www.nwcorporatelaw.com
SUMMARY:KDI 4th Annual Charity Golf Tournament
DESCRIPTION:Event Description: NWCL Client\, KDI\, will be hosting its 4th Annual Charity Golf Tournament on Friday October 16th\, 2026 at The Golf Club at Moffett Field in Mountain View\, CA.  This tournament combines two passions of KDI\, helping others and enjoying a fun round of golf.  As part of KDI’s ongoing commitment to give back to the community\, this year all proceeds will go to support the Humane Society Silicon Valley. \nClick Here For More Info or To Donate!
URL:https://www.nwcorporatelaw.com/event/kdi-4th-annual-charity-golf-tournament/
LOCATION:In-Person Event (Details Below)
CATEGORIES:In-Person,Local Impact
ATTACH;FMTTYPE=image/jpeg:https://www.nwcorporatelaw.com/wp-content/uploads/2022/04/local2.jpg
END:VEVENT
END:VCALENDAR